Workbook

Sheet השוואת הצעות
A1: פרמטר | B1: הצעה 1 | C1: הצעה 2 | D1: הצעה 3 | E1: הצעה זולה ביותר
E2: =IF(AND(B2<=C2,B2<=D2),"הצעה 1",IF(AND(C2<=B2,C2<=D2),"הצעה 2","הצעה 3"))
E3: =IF(AND(B3<=C3,B3<=D3),"הצעה 1",IF(AND(C3<=B3,C3<=D3),"הצעה 2","הצעה 3"))
E4: =IF(AND(B4<=C4,B4<=D4),"הצעה 1",IF(AND(C4<=B4,C4<=D4),"הצעה 2","הצעה 3"))
E5: =IF(AND(B5<=C5,B5<=D5),"הצעה 1",IF(AND(C5<=B5,C5<=D5),"הצעה 2","הצעה 3"))
E6: =IF(AND(B6<=C6,B6<=D6),"הצעה 1",IF(AND(C6<=B6,C6<=D6),"הצעה 2","הצעה 3"))
E7: =IF(AND(B7<=C7,B7<=D7),"הצעה 1",IF(AND(C7<=B7,C7<=D7),"הצעה 2","הצעה 3"))
E8: =IF(AND(B8<=C8,B8<=D8),"הצעה 1",IF(AND(C8<=B8,C8<=D8),"הצעה 2","הצעה 3"))
E9: =IF(AND(B9<=C9,B9<=D9),"הצעה 1",IF(AND(C9<=B9,C9<=D9),"הצעה 2","הצעה 3"))
E10: =IF(AND(B10<=C10,B10<=D10),"הצעה 1",IF(AND(C10<=B10,C10<=D10),"הצעה 2","הצעה 3"))

Sheet סיכום ועלות כוללת
A1: פריט | B1: הצעה 1 | C1: הצעה 2 | D1: הצעה 3 | E1: הצעה זולה ביותר
B2: ='השוואת הצעות'!B2 | C2: ='השוואת הצעות'!C2 | D2: ='השוואת הצעות'!D2 | E2: =IF(AND(B2<=C2,B2<=D2),"הצעה 1",IF(AND(C2<=B2,C2<=D2),"הצעה 2","הצעה 3"))
B3: ='השוואת הצעות'!B3 | C3: ='השוואת הצעות'!C3 | D3: ='השוואת הצעות'!D3 | E3: =IF(AND(B3<=C3,B3<=D3),"הצעה 1",IF(AND(C3<=B3,C3<=D3),"הצעה 2","הצעה 3"))
B4: ='השוואת הצעות'!B4 | C4: ='השוואת הצעות'!C4 | D4: ='השוואת הצעות'!D4 | E4: =IF(AND(B4<=C4,B4<=D4),"הצעה 1",IF(AND(C4<=B4,C4<=D4),"הצעה 2","הצעה 3"))
B5: ='השוואת הצעות'!B5 | C5: ='השוואת הצעות'!C5 | D5: ='השוואת הצעות'!D5 | E5: =IF(AND(B5<=C5,B5<=D5),"הצעה 1",IF(AND(C5<=B5,C5<=D5),"הצעה 2","הצעה 3"))
